BEGIN:VCALENDAR
VERSION:2.0
PRODID:-//ChamberMaster//Event Calendar 2.0//EN
METHOD:PUBLISH
X-PUBLISHED-TTL:P3D
REFRESH-INTERVAL:P3D
CALSCALE:GREGORIAN
BEGIN:VEVENT
DTSTART:20150408T130000Z
DTEND:20150408T210000Z
X-MICROSOFT-CDO-ALLDAYEVENT:FALSE
SUMMARY:Get your Food Business Off the Ground and Growing
DESCRIPTION:If you're thinking of packaging and selling a favorite recipe\, or even if you already have a small food business the presenters of this program can give you guidance. Their experience and expertise in licensing a food product\, processing\, packaging\, marketing\, pricing and selling are an invaluable resource. The program also includes the basics of successful small business management. Current or potential food entrepreneurs are encouraged to the workshop.  It will include five speakers who will cover topics including licensing\, recipe approval\, processing\, marketing and small business planning. This program is supported in part by the Value-Added Institute of the New York Small Scale Food Processors Association. Register by April 1. For more information see events at www.ccesaratoga.org or contact Diane Whitten at Cornell Cooperative Extension\, 885-8995\, or dwhitten@cornell.edu. attend.
X-ALT-DESC;FMTTYPE=text/html:If you&#39\;re thinking of packaging and selling a favorite recipe\, or even if you already have a small food business the presenters of this program can give you guidance. Their experience and expertise in licensing a food product\, processing\, packaging\, marketing\, pricing and selling are an invaluable resource. The program also includes the basics of successful small business management. Current or potential food entrepreneurs are encouraged to the workshop. &nbsp\;It will include five speakers who will cover topics including licensing\, recipe approval\, processing\, marketing and small business planning. This program is supported in part by the Value-Added Institute of the New York Small Scale Food Processors Association. Register by April 1. For more information see events at www.ccesaratoga.org or contact Diane Whitten at Cornell Cooperative Extension\, 885-8995\, or dwhitten@cornell.edu. attend.
LOCATION:Cornell Cooperative Extension of Saratoga Co. 50 West High Street Ballston Spa\, NY 12020
UID:e.2254.6668
SEQUENCE:3
DTSTAMP:20260423T200300Z
URL:https://chamber.saratoga.org/events/details/get-your-food-business-off-the-ground-and-growing-04-08-2015-6668
END:VEVENT

END:VCALENDAR
