BEGIN:VCALENDAR
VERSION:2.0
PRODID:-//ChamberMaster//Event Calendar 2.0//EN
METHOD:PUBLISH
X-PUBLISHED-TTL:P3D
REFRESH-INTERVAL:P3D
CALSCALE:GREGORIAN
BEGIN:VEVENT
DTSTART:20150502T203000Z
DTEND:20150502T223000Z
X-MICROSOFT-CDO-ALLDAYEVENT:FALSE
SUMMARY:Genius Makers and Bouncers
DESCRIPTION:Have your child(ren) join the makers club by creating something fun from scratch. Learn new technologies and let your soul bounce free! Bounce house available in garden area. Register free on line http://thegeniusplaza.com/events-3/
X-ALT-DESC;FMTTYPE=text/html:Have your child(ren) join the makers club by creating something fun from scratch. Learn new technologies and let your soul bounce free! Bounce house available in garden area. Register free on line http://thegeniusplaza.com/events-3/
LOCATION:The Genius Plaza
UID:e.2254.6920
SEQUENCE:3
DTSTAMP:20260423T164821Z
URL:https://chamber.saratoga.org/events/details/genius-makers-and-bouncers-05-02-2015-6920
END:VEVENT

END:VCALENDAR
