BEGIN:VCALENDAR
VERSION:2.0
PRODID:-//ChamberMaster//Event Calendar 2.0//EN
METHOD:PUBLISH
X-PUBLISHED-TTL:P3D
REFRESH-INTERVAL:P3D
CALSCALE:GREGORIAN
BEGIN:VEVENT
DTSTART:20160924T170000Z
DTEND:20160924T210000Z
X-MICROSOFT-CDO-ALLDAYEVENT:FALSE
SUMMARY:Geektoberfest at Shmaltz Brewing Company
DESCRIPTION:Greetings fellow craft beer enthusiast! Do you remember when you started to get into craft beer\, which then turned into a passion\, and now some might call you a beer geek? Well we want to celebrate this geekdom with you as we celebrate GEEKTOBERFEST at Shmaltz Brewing Company! We want you to bring your amazing craft beer knowledge\, expertise\, and your own unique spin to an event where we will be courting the nerdiest of the nerd and geekiest of the geek craft beer fans to join our celebration. We want these beer connoisseurs to enjoy sampling unique\, special\, flavoral beers from various brewing companies\, and we'd love to have you join us! We will also be inviting other home brewers and home brew groups to join us for this event\, hops growers\, and other special invitees that our fellow beer geeks would be interested in learning more about. There will also be a VIP bottle share. Please bring a unique bottle if you'd like to participate! Below are more particulars about the event: Who: Brewers\, home brewers\, and craft beer geeks What: A celebration for all things beer When: September 24th\, 2016\, 1-5 PM Where: Shmaltz Brewery- 6 Fairchild Square\, Clifton Park\, NY 12065 Why: Because we love craft beer and so do you Ticket cost is $35 which gets you samples of unique beers from breweries\, beer and food pairings\, selection of vintage beers\, a tour from our brewers\, and more! BUY TICKETS HERE: https://www.eventbrite.com/e/geektoberfest-at-shmaltz-brewing-company-tickets-27385619124
X-ALT-DESC;FMTTYPE=text/html:Greetings fellow craft beer enthusiast! Do you remember when you started to get into craft beer\, which then turned into a passion\, and now some might call you a beer geek? Well we want to celebrate this geekdom with you as we celebrate GEEKTOBERFEST at Shmaltz Brewing Company! We want you to bring your amazing craft beer knowledge\, expertise\, and your own unique spin to an event where we will be courting the nerdiest of the nerd and geekiest of the geek craft beer fans to join our celebration. We want these beer connoisseurs to enjoy sampling unique\, special\, flavoral beers from various brewing companies\, and we&rsquo\;d love to have you join us! We will also be inviting other home brewers and home brew groups to join us for this event\, hops growers\, and other special invitees that our fellow beer geeks would be interested in learning more about. There will also be a VIP bottle share. Please bring a unique bottle if you&rsquo\;d like to participate! Below are more particulars about the event: Who: Brewers\, home brewers\, and craft beer geeks What: A celebration for all things beer When: September 24th\, 2016\, 1-5 PM Where: Shmaltz Brewery- 6 Fairchild Square\, Clifton Park\, NY 12065 Why: Because we love craft beer and so do you Ticket cost is $35 which gets you samples of unique beers from breweries\, beer and food pairings\, selection of vintage beers\, a tour from our brewers\, and more! BUY TICKETS HERE: https://www.eventbrite.com/e/geektoberfest-at-shmaltz-brewing-company-tickets-27385619124
LOCATION:Shmaltz Brewing Company - 6 Fairchild Square\, Clifton Park\, NY 12065
UID:e.2254.19475
SEQUENCE:3
DTSTAMP:20260420T232257Z
URL:https://chamber.saratoga.org/events/details/geektoberfest-at-shmaltz-brewing-company-19475
END:VEVENT

END:VCALENDAR
