BEGIN:VCALENDAR
VERSION:2.0
PRODID:-//ChamberMaster//Event Calendar 2.0//EN
METHOD:PUBLISH
X-PUBLISHED-TTL:P3D
REFRESH-INTERVAL:P3D
CALSCALE:GREGORIAN
BEGIN:VEVENT
DTSTART:20161210T233000Z
DTEND:20161211T023000Z
X-MICROSOFT-CDO-ALLDAYEVENT:FALSE
SUMMARY:Fundraiser for tenants displaced by Caroline St Fire
DESCRIPTION:Come join us at Bailey's Saratoga for some drinks and live music this Saturday\, December 10 to help raise funds for those who were displaced from their homes on November 24\, Thanksgiving day. A fire spread to four buildings in downtown Saratoga Springs\, New York\, forcing tenants of 24 Caroline Street to find new homes. Bailey's\, in conjunction with Cafe Lena\, will be donating part of the evening's proceeds to the tenants to help minimize the costs of temporary housing\, new furniture and personal items that were damaged by smoke and water. Come enjoy live music from The North and South Dakotas\, Rich Clement's Band\, Different than Normal\, and Pat Decker!
X-ALT-DESC;FMTTYPE=text/html:Come join us at Bailey&#39\;s Saratoga for some drinks and live music this Saturday\, December 10 to help raise funds for those who were displaced from their homes on November 24\, Thanksgiving day. A fire spread to four buildings in downtown Saratoga Springs\, New York\, forcing tenants of 24 Caroline Street to find new homes. Bailey&#39\;s\, in conjunction with Cafe Lena\, will be donating part of the evening&#39\;s proceeds to the tenants to help minimize the costs of temporary housing\, new furniture and personal items that were damaged by smoke and water. Come enjoy live music from The North and South Dakotas\, Rich Clement&#39\;s Band\, Different than Normal\, and Pat Decker!
LOCATION:Bailey's Cafe\, Saratoga Springs\, NY
UID:e.2254.21469
SEQUENCE:3
DTSTAMP:20260420T184204Z
URL:https://chamber.saratoga.org/events/details/fundraiser-for-tenants-displaced-by-caroline-st-fire-21469
END:VEVENT

END:VCALENDAR
