BEGIN:VCALENDAR
VERSION:2.0
PRODID:-//ChamberMaster//Event Calendar 2.0//EN
METHOD:PUBLISH
X-PUBLISHED-TTL:P3D
REFRESH-INTERVAL:P3D
CALSCALE:GREGORIAN
BEGIN:VEVENT
DTSTART:20150801T003000Z
DTEND:20150801T013000Z
X-MICROSOFT-CDO-ALLDAYEVENT:FALSE
SUMMARY:Full Moon Walk
DESCRIPTION:Join us for an evening hike where we will observe the full moon and other wonders of the night sky\, as well as listen to the nights sounds of the park. All ages welcome. Registration is required. Fee is $3 per person or $5 per family. Please call 518-584-2000 Ext. 150 to register.
X-ALT-DESC;FMTTYPE=text/html:Join us for an evening hike where we will observe the full moon and other wonders of the night sky\, as well as listen to the nights sounds of the park. All ages welcome. Registration is required. Fee is $3 per person or $5 per family. Please call 518-584-2000 Ext. 150 to register.
LOCATION:Saratoga Spa State Park Saratoga Springs NY 12866
UID:e.2254.10026
SEQUENCE:3
DTSTAMP:20260423T040057Z
URL:https://chamber.saratoga.org/events/details/full-moon-walk-07-31-2015-10026
END:VEVENT

END:VCALENDAR
