BEGIN:VCALENDAR
VERSION:2.0
PRODID:-//ChamberMaster//Event Calendar 2.0//EN
METHOD:PUBLISH
X-PUBLISHED-TTL:P3D
REFRESH-INTERVAL:P3D
CALSCALE:GREGORIAN
BEGIN:VEVENT
DTSTART:20150410T173000Z
DTEND:20150410T210000Z
X-MICROSOFT-CDO-ALLDAYEVENT:FALSE
SUMMARY:Freirich Business Plan Competition
DESCRIPTION:Freirich Business Plan Competition Competing for $60\,000 in cash prizes\, 13 teams of Skidmore students will make their final business-plan presentations to a panel of distinguished judges. 1:30 p.m.-Filene Recital Hall For more information call 518-580-5746
X-ALT-DESC;FMTTYPE=text/html:Freirich Business Plan Competition Competing for $60\,000 in cash prizes\, 13 teams of Skidmore students will make their final business-plan presentations to a panel of distinguished judges. 1:30 p.m.-Filene Recital Hall For more information call 518-580-5746
LOCATION:Skidmore College\, Filene Recital Hall 815 N. Broadway Saratoga Springs\, NY 12866
UID:e.2254.7580
SEQUENCE:3
DTSTAMP:20260423T195834Z
URL:https://chamber.saratoga.org/events/details/freirich-business-plan-competition-04-10-2015-7580
END:VEVENT

END:VCALENDAR
