BEGIN:VCALENDAR
VERSION:2.0
PRODID:-//ChamberMaster//Event Calendar 2.0//EN
METHOD:PUBLISH
X-PUBLISHED-TTL:P3D
REFRESH-INTERVAL:P3D
CALSCALE:GREGORIAN
BEGIN:VEVENT
DTSTART:20140713T100000Z
DTEND:20140713T100000Z
X-MICROSOFT-CDO-ALLDAYEVENT:FALSE
SUMMARY:FREE Yoga Class - 07/13/2014
DESCRIPTION:Restorative and Gentle Yoga for all Fitness LevelsJoin us at our new space\, 422 Broadway for a gentle\, yoga class.  Cyclists will enjoy hip openers\, shoulder stretches and the mind/body experience.
X-ALT-DESC;FMTTYPE=text/html:<p>Restorative and Gentle Yoga for all Fitness Levels</p><p>Join us at our new space\, 422 Broadway for a gentle\, yoga class. &nbsp\;Cyclists will enjoy hip openers\, shoulder stretches and the mind/body experience.</p>
LOCATION:Saratoga Cycling Studio
UID:e.2254.3362
SEQUENCE:3
DTSTAMP:20260424T234747Z
URL:https://chamber.saratoga.org/events/details/free-yoga-class-07-13-2014-07-13-2014-3362
END:VEVENT

END:VCALENDAR
