BEGIN:VCALENDAR
VERSION:2.0
PRODID:-//ChamberMaster//Event Calendar 2.0//EN
METHOD:PUBLISH
X-PUBLISHED-TTL:P3D
REFRESH-INTERVAL:P3D
CALSCALE:GREGORIAN
BEGIN:VEVENT
DTSTART:20140830T123000Z
DTEND:20140830T131500Z
X-MICROSOFT-CDO-ALLDAYEVENT:FALSE
SUMMARY:FREE Spinning 101 Class - 08/30/2014
DESCRIPTION:FREE Beginners Spinning Class40 minutes that include bike set-up\, explanation of the Spinning program and a short ride to get you comfortable on the bike and ready for your first class. \n\nWhile all of our classes are appropriate for beginners\, this might help you to get started.
X-ALT-DESC;FMTTYPE=text/html:<p>FREE Beginners Spinning Class</p><span style="font-family: Verdana\, Arial\, Helvetica\, sans-serif\; font-size: 14px\; line-height: normal\;">40 minutes that include bike set-up\, explanation of the Spinning program and a short ride to get you comfortable on the bike and ready for your first class.&nbsp\;</span><br style="font-family: Verdana\, Arial\, Helvetica\, sans-serif\; font-size: 14px\; line-height: normal\;"><br style="font-family: Verdana\, Arial\, Helvetica\, sans-serif\; font-size: 14px\; line-height: normal\;"><span style="font-family: Verdana\, Arial\, Helvetica\, sans-serif\; font-size: 14px\; line-height: normal\;">While all of our classes are appropriate for beginners\, this might help you to get started.</span><br>
LOCATION:Saratoga Cycling Studio
UID:e.2254.3507
SEQUENCE:3
DTSTAMP:20260424T155752Z
URL:https://chamber.saratoga.org/events/details/free-spinning-101-class-08-30-2014-08-30-2014-3507
END:VEVENT

END:VCALENDAR
