BEGIN:VCALENDAR
VERSION:2.0
PRODID:-//ChamberMaster//Event Calendar 2.0//EN
METHOD:PUBLISH
X-PUBLISHED-TTL:P3D
REFRESH-INTERVAL:P3D
CALSCALE:GREGORIAN
BEGIN:VEVENT
DTSTART:20150712T144500Z
DTEND:20150712T153000Z
X-MICROSOFT-CDO-ALLDAYEVENT:FALSE
SUMMARY:FREE Spinning 101
DESCRIPTION:Now is your chance to try Spinning for FREE!  We begin with bike setup\, then a quick ride together to get you comfortable and ready for your first class.
X-ALT-DESC;FMTTYPE=text/html:Now is your chance to try Spinning for FREE! &nbsp\;We begin with bike setup\, then a quick ride together to get you comfortable and ready for your first class.
LOCATION:Saratoga Cycling Studio
UID:e.2254.10009
SEQUENCE:3
DTSTAMP:20260423T040142Z
URL:https://chamber.saratoga.org/events/details/free-spinning-101-07-12-2015-10009
END:VEVENT

END:VCALENDAR
