BEGIN:VCALENDAR
VERSION:2.0
PRODID:-//ChamberMaster//Event Calendar 2.0//EN
METHOD:PUBLISH
X-PUBLISHED-TTL:P3D
REFRESH-INTERVAL:P3D
CALSCALE:GREGORIAN
BEGIN:VEVENT
DTSTART:20150412T160000Z
DTEND:20150412T210000Z
X-MICROSOFT-CDO-ALLDAYEVENT:FALSE
SUMMARY:Free Second Sunday: Discovery Day
DESCRIPTION:Free Second Sunday\, all day! Discovery Day activities 1 pm to 3 pm.  Have art fun in the galleries\, museum and Art Studio then make an exhibition-themed work of art to take home.
X-ALT-DESC;FMTTYPE=text/html:<p>Free Second Sunday\, all day! Discovery Day activities 1 pm to 3 pm. &nbsp\;Have art fun in the galleries\, museum and Art Studio then make an exhibition-themed work of art to take home.&nbsp\;</p>
LOCATION:The Hyde Collection Art Museum
UID:e.2254.4912
SEQUENCE:3
DTSTAMP:20260423T195228Z
URL:https://chamber.saratoga.org/events/details/free-second-sunday-discovery-day-04-12-2015-4912
END:VEVENT

END:VCALENDAR
