BEGIN:VCALENDAR
VERSION:2.0
PRODID:-//ChamberMaster//Event Calendar 2.0//EN
METHOD:PUBLISH
X-PUBLISHED-TTL:P3D
REFRESH-INTERVAL:P3D
CALSCALE:GREGORIAN
BEGIN:VEVENT
DTSTART:20150308T160000Z
DTEND:20150308T210000Z
X-MICROSOFT-CDO-ALLDAYEVENT:FALSE
SUMMARY:Free Second Sunday: Discovery Day
DESCRIPTION:Free Second Sunday all day! Discovery Day activities 1 pm to 3 pm. Tour the museum and exhibitions\, then creative fun in the Art Studio.
X-ALT-DESC;FMTTYPE=text/html:<p>Free Second Sunday all day! Discovery Day activities 1 pm to 3 pm. Tour the museum and exhibitions\, then creative fun in the Art Studio.</p>
LOCATION:The Hyde Collection Art Museum
UID:e.2254.4911
SEQUENCE:3
DTSTAMP:20260423T214014Z
URL:https://chamber.saratoga.org/events/details/free-second-sunday-discovery-day-03-08-2015-4911
END:VEVENT

END:VCALENDAR
