BEGIN:VCALENDAR
VERSION:2.0
PRODID:-//ChamberMaster//Event Calendar 2.0//EN
METHOD:PUBLISH
X-PUBLISHED-TTL:P3D
REFRESH-INTERVAL:P3D
CALSCALE:GREGORIAN
BEGIN:VEVENT
DTSTART:20150208T170000Z
DTEND:20150208T220000Z
X-MICROSOFT-CDO-ALLDAYEVENT:FALSE
SUMMARY:Free Second Sunday: Discovery Day
DESCRIPTION:Free Second Sunday all day\; Discovery Day 1 pm to 3 pm. Tour the museum and exhibitions with museum educator and then create art in the Art Studio. For children of all ages\, accompanied by an adult.
X-ALT-DESC;FMTTYPE=text/html:<p>Free Second Sunday all day\; Discovery Day 1 pm to 3 pm. Tour the museum and exhibitions with museum educator and then create art in the Art Studio. For children of all ages\, accompanied by an adult.</p>
LOCATION:The Hyde Collection Art Museum
UID:e.2254.4910
SEQUENCE:3
DTSTAMP:20260424T003441Z
URL:https://chamber.saratoga.org/events/details/free-second-sunday-discovery-day-02-08-2015-4910
END:VEVENT

END:VCALENDAR
