BEGIN:VCALENDAR
VERSION:2.0
PRODID:-//ChamberMaster//Event Calendar 2.0//EN
METHOD:PUBLISH
X-PUBLISHED-TTL:P3D
REFRESH-INTERVAL:P3D
CALSCALE:GREGORIAN
BEGIN:VEVENT
DTSTART:20160731T160000Z
DTEND:20160731T200000Z
X-MICROSOFT-CDO-ALLDAYEVENT:FALSE
SUMMARY:FREE Military & Veteran's Appreciation Picnic - Family Oriented at Saratoga-Wilton Elks Lodge #161
DESCRIPTION:Saratoga-Wilton Elks Lodge #161\n\nIs Honoring ALL Military & Veterans   Active & Retired- \n\nin the Local Area with a FREE Veterans Family-Oriented Appreciation Picnic at our Lodge!\n\nSunday\, July 31st 2016 \n\nNoon   4pm\n \n\nAll Military & Veterans in the area are invited to bring your family members with you   Kids of all ages too!  Fun activities for everyone!\n\n\n\nLunch will be served from Noon until 3:00 PM\n\n\n\nActivities:\n\n\n	Horseshoe Tournament\n	Dream Ponies and Zoo will be there for pony rides and petting zoo from 1:00 PM to 3:00 PM\n	DJ Patty Reynolds with music and kid's entertainment\n	Cake Walk\n	Weather permitting - water balloon toss\n\nPlease Call the Lodge 518-584-2585 or Debbie Gerber 518-791-1025 to let us know how many from your family or group will be attending.\n\n1 Elk Lane\, Saratoga Springs\, NY 12866
X-ALT-DESC;FMTTYPE=text/html:<div style="text-align: center\;"><strong><span style="font-family: comic sans ms\;"><span style="font-size: 18pt\;">Saratoga-Wilton Elks Lodge #161</span></span></strong><br />\n<span style="color: rgb(255\, 0\, 0)\;"><strong><span style="font-family: comic sans ms\;"><span style="font-size: 16pt\;">Is Honoring ALL Military &amp\; Veterans &ndash\; Active &amp\; Retired- </span></span></strong><br />\n<strong><span style="font-family: comic sans ms\;"><span style="font-size: 16pt\;">in the Local Area with a FREE Veterans Family-Oriented Appreciation Picnic at our Lodge!</span></span></strong></span><br />\n<strong><span style="font-family: comic sans ms\;"><span style="font-size: 16pt\;"><span style="color: rgb(255\, 0\, 0)\;">Sunday\, July 31<sup>st</sup> 2016</span> </span></span></strong></div>\n\n<div style="text-align: center\;"><strong><span style="font-family: comic sans ms\;"><span style="font-size: 16pt\;">Noon &ndash\; 4pm</span></span></strong></div>\n&nbsp\;<br />\n<span style="font-family: comic sans ms\;"><span style="font-size: 14pt\;">All Military &amp\; Veterans in the area are invited to bring your family members with you &ndash\; Kids of all ages too!&nbsp\; Fun activities for everyone!</span></span><br />\n<br />\n<span style="font-family: comic sans ms\;"><span style="font-size: 14pt\;">Lunch will be served from Noon until 3:00 PM</span></span><br />\n<br />\n<u><span style="font-family: comic sans ms\;"><span style="font-size: 14pt\;">Activities:</span></span></u>\n\n<ul>\n	<li><span style="font-family: comic sans ms\;"><span style="font-size: 14pt\;">Horseshoe Tournament</span></span></li>\n	<li><span style="font-family: comic sans ms\;"><span style="font-size: 14pt\;">Dream Ponies and Zoo will be there for pony rides and petting zoo from 1:00 PM to 3:00 PM</span></span></li>\n	<li><span style="font-family: comic sans ms\;"><span style="font-size: 14pt\;">DJ Patty Reynolds with music and kid&rsquo\;s entertainment</span></span></li>\n	<li><span style="font-family: comic sans ms\;"><span style="font-size: 14pt\;">Cake Walk</span></span></li>\n	<li><span style="font-family: comic sans ms\;"><span style="font-size: 14pt\;">Weather permitting - water balloon toss</span></span></li>\n</ul>\n<span style="color: rgb(255\, 0\, 0)\;"><span style="font-family: comic sans ms\;"><span style="font-size: 14pt\;">Please Call the Lodge 518-584-2585 or Debbie Gerber 518-791-1025 to let us know how many from your family or group will be attending.</span></span></span><br />\n<strong><em><span style="font-family: comic sans ms\;"><span style="font-size: 12pt\;">1 Elk Lane\, Saratoga Springs\, NY 12866</span></span></em></strong>
LOCATION:
UID:e.2254.17294
SEQUENCE:3
DTSTAMP:20260421T051414Z
URL:https://chamber.saratoga.org/events/details/free-military-veteran-s-appreciation-picnic-family-oriented-at-saratoga-wilton-elks-lodge-161-07-31-2016-17294
END:VEVENT

END:VCALENDAR
