BEGIN:VCALENDAR
VERSION:2.0
PRODID:-//ChamberMaster//Event Calendar 2.0//EN
METHOD:PUBLISH
X-PUBLISHED-TTL:P3D
REFRESH-INTERVAL:P3D
CALSCALE:GREGORIAN
BEGIN:VEVENT
DTSTART:20140913T101500Z
DTEND:20140913T110000Z
X-MICROSOFT-CDO-ALLDAYEVENT:FALSE
SUMMARY:FREE Karma Spinning Class - 09/13/2014
DESCRIPTION:Free Spinning class for charityJoin us for 60 minutes on the bike all for a great cause!  CASANA raises money for children with Aprexia of speech.  This helps to provide children with therapy\, multimedia projects\, and training for teachers and parents.100% of your donations go to this worthy cause.Please bring in whatever donation you feel comfortable with.  Appropriate for all levels of fitness and beginners are welcome to ride.
X-ALT-DESC;FMTTYPE=text/html:<p>Free Spinning class for charity</p><p>Join us for 60 minutes on the bike all for a great cause! &nbsp\;CASANA raises money for children with Aprexia of speech. &nbsp\;This helps to provide children with therapy\, multimedia projects\, and training for teachers and parents.</p><p>100% of your donations go to this worthy cause.</p><p>Please bring in whatever donation you feel comfortable with. &nbsp\;Appropriate for all levels of fitness and beginners are welcome to ride.</p><p><br /></p>
LOCATION:Saratoga Cycling Studio
UID:e.2254.3558
SEQUENCE:3
DTSTAMP:20260424T110844Z
URL:https://chamber.saratoga.org/events/details/free-karma-spinning-class-09-13-2014-09-13-2014-3558
END:VEVENT

END:VCALENDAR
