BEGIN:VCALENDAR
VERSION:2.0
PRODID:-//ChamberMaster//Event Calendar 2.0//EN
METHOD:PUBLISH
X-PUBLISHED-TTL:P3D
REFRESH-INTERVAL:P3D
CALSCALE:GREGORIAN
BEGIN:VEVENT
DTSTART;VALUE=DATE:20160610
DTEND;VALUE=DATE:20160611
TRANSP:TRANSPARENT
X-MICROSOFT-CDO-ALLDAYEVENT:TRUE
SUMMARY:Free Day at the SRYMCA!
DESCRIPTION:With a rich history in Saratoga Springs that spans 150 years\, the Saratoga Regional YMCA is rooted deeply in the local community. The relationship between city and organization has flourished over time\, allowing both to grow and thrive\, while directly impacting one another.\n\n \n\nTo celebrate this momentous occasion\, the Y is offering a FREE day of fitness on their anniversary\, June 10th! All five branches of the association will be open to the public for the entire day. With over 100 FREE group fitness classes offered each week\, including Zumba\, cycling and warm yoga\, there is something for everyone! Take a few laps around the indoor track\, swim in the pool\, play basketball in the gymnasium\, kick the soccer ball around the field house\, or try out the free weights and cardiovascular equipment in the wellness center- see what it's like to belong to the SRYMCA family!\n\n \n\nWith much gratitude\, the SRYMCA looks forward to serving local communities within the Saratoga region for another 150 years. For more information regarding the Saratoga Regional YMCA\, please visit www.srymca.org. Five locations include Saratoga Springs\, Wilton\, Malta\, Greenwich and Corinth.
X-ALT-DESC;FMTTYPE=text/html:With a rich history in Saratoga Springs that spans 150 years\, the Saratoga Regional YMCA is rooted deeply in the local community. The relationship between city and organization has flourished over time\, allowing both to grow and thrive\, while directly impacting one another.<br />\n&nbsp\;<br />\nTo celebrate this momentous occasion\, the Y is offering a FREE day of fitness on their anniversary\, June 10<sup>th</sup>! All five branches of the association will be open to the public for the entire day. With over 100 FREE group fitness classes offered each week\, including Zumba\, cycling and warm yoga\, there is something for everyone! Take a few laps around the indoor track\, swim in the pool\, play basketball in the gymnasium\, kick the soccer ball around the field house\, or try out the free weights and cardiovascular equipment in the wellness center- see what it&rsquo\;s like to belong to the SRYMCA family!<br />\n&nbsp\;<br />\nWith much gratitude\, the SRYMCA looks forward to serving local communities within the Saratoga region for another 150 years. For more information regarding the Saratoga Regional YMCA\, please visit <a href="http://www.srymca.org/">www.srymca.org</a>. Five locations include Saratoga Springs\, Wilton\, Malta\, Greenwich and Corinth.
LOCATION:Saratoga Regional YMCA
UID:e.2254.16820
SEQUENCE:3
DTSTAMP:20260421T080539Z
URL:https://chamber.saratoga.org/events/details/free-day-at-the-srymca-06-10-2016-16820
END:VEVENT

END:VCALENDAR
