BEGIN:VCALENDAR
VERSION:2.0
PRODID:-//ChamberMaster//Event Calendar 2.0//EN
METHOD:PUBLISH
X-PUBLISHED-TTL:P3D
REFRESH-INTERVAL:P3D
CALSCALE:GREGORIAN
BEGIN:VEVENT
DTSTART;VALUE=DATE:20160824
DTEND;VALUE=DATE:20160825
TRANSP:TRANSPARENT
X-MICROSOFT-CDO-ALLDAYEVENT:TRUE
SUMMARY:Free Admission for Seniors Every Wednesday at The Hyde Collection
DESCRIPTION:Every Wednesday at The Hyde Collection admission is FREE for seniors.
X-ALT-DESC;FMTTYPE=text/html:Every Wednesday at The Hyde Collection admission is&nbsp\;FREE for seniors.
LOCATION:The Hyde Collection
UID:e.2254.15530
SEQUENCE:3
DTSTAMP:20260421T004433Z
URL:https://chamber.saratoga.org/events/details/free-admission-for-seniors-every-wednesday-at-the-hyde-collection-08-24-2016-15530
END:VEVENT

END:VCALENDAR
