BEGIN:VCALENDAR
VERSION:2.0
PRODID:-//ChamberMaster//Event Calendar 2.0//EN
METHOD:PUBLISH
X-PUBLISHED-TTL:P3D
REFRESH-INTERVAL:P3D
CALSCALE:GREGORIAN
BEGIN:VEVENT
DTSTART:20140723T143000Z
DTEND:20140723T151500Z
X-MICROSOFT-CDO-ALLDAYEVENT:FALSE
SUMMARY:Fred and Ted Lunch Talks - 07/23/2014
DESCRIPTION:Fred and Ted Lunch TalksSkidmore Summer Studio Art Faculty will give 20-minute talks on artists they like and why. 12:30-1:15 p.m.-Saisselin Art Building For more information call 518-580-5049
X-ALT-DESC;FMTTYPE=text/html:<p>Fred and Ted Lunch Talks</p><p><span style="color: black\;">Skidmore Summer Studio Art Faculty will give 20-minute talks on artists they like and why.</span></p> <p><span>12:30-1:15 p.m.-Saisselin Art Building</span></p> <span style="font-size: 12pt\; font-family: Times New Roman\,serif\;">For more information call 518-580-5049</span>
LOCATION:Saisselin Art Building
UID:e.2254.3406
SEQUENCE:3
DTSTAMP:20260424T192914Z
URL:https://chamber.saratoga.org/events/details/fred-and-ted-lunch-talks-07-23-2014-07-23-2014-3406
END:VEVENT

END:VCALENDAR
