BEGIN:VCALENDAR
VERSION:2.0
PRODID:-//ChamberMaster//Event Calendar 2.0//EN
METHOD:PUBLISH
X-PUBLISHED-TTL:P3D
REFRESH-INTERVAL:P3D
CALSCALE:GREGORIAN
BEGIN:VEVENT
DTSTART:20150728T220000Z
DTEND:20150729T000000Z
X-MICROSOFT-CDO-ALLDAYEVENT:FALSE
SUMMARY:Franklin's Guest Bartender Night at Harvey's
DESCRIPTION:Come join us at Harveys Bar and Restaurant for a guest bartender night.  20% of the proceeds and 100% of the tips will go to funding Franklin Community Center's services. Check our Facebook event\, Harveys' and Franklin's Guest Bartending Night\, for the reveals of the guest bartenders.
X-ALT-DESC;FMTTYPE=text/html:Come join us at Harveys Bar and Restaurant for a guest bartender night. &nbsp\;20% of the proceeds and 100% of the tips will go to funding Franklin Community Center&#39\;s services. Check our Facebook event\, Harveys&#39\; and Franklin&#39\;s Guest Bartending Night\, for the reveals of the guest bartenders.
LOCATION:Harvey's Pub and Restaurant 14 Phila Street Saratoga Springs
UID:e.2254.9625
SEQUENCE:3
DTSTAMP:20260423T040639Z
URL:https://chamber.saratoga.org/events/details/franklin-s-guest-bartender-night-at-harvey-s-07-28-2015-9625
END:VEVENT

END:VCALENDAR
