BEGIN:VCALENDAR
VERSION:2.0
PRODID:-//ChamberMaster//Event Calendar 2.0//EN
METHOD:PUBLISH
X-PUBLISHED-TTL:P3D
REFRESH-INTERVAL:P3D
CALSCALE:GREGORIAN
BEGIN:VEVENT
DTSTART:20150714T220000Z
DTEND:20150714T230000Z
X-MICROSOFT-CDO-ALLDAYEVENT:FALSE
SUMMARY:Franklin Community Center Open Pantry Open House
DESCRIPTION:Are you curious to see our newly renovated food pantry? Mark your calendars for Tuesday\, July 14th from 6-7pm. Franklin is hosting an "Open Pantry" for everyone to come and visit the pantry.
X-ALT-DESC;FMTTYPE=text/html:Are you curious to see our newly renovated food pantry? Mark your calendars for Tuesday\, July 14th from 6-7pm. Franklin is hosting an &quot\;Open Pantry&quot\; for everyone to come and visit the pantry.
LOCATION:Franklin Community Center's Food Pantry 10 Franklin Street Saratoga Springs
UID:e.2254.9624
SEQUENCE:3
DTSTAMP:20260423T040832Z
URL:https://chamber.saratoga.org/events/details/franklin-community-center-open-pantry-open-house-07-14-2015-9624
END:VEVENT

END:VCALENDAR
