BEGIN:VCALENDAR
VERSION:2.0
PRODID:-//ChamberMaster//Event Calendar 2.0//EN
METHOD:PUBLISH
X-PUBLISHED-TTL:P3D
REFRESH-INTERVAL:P3D
CALSCALE:GREGORIAN
BEGIN:VEVENT
DTSTART:20151028T220000Z
DTEND:20151028T230000Z
X-MICROSOFT-CDO-ALLDAYEVENT:FALSE
SUMMARY:Fort Edward Free Library to Host Social Security Workshop
DESCRIPTION:The Fort Edward Free Library located at 23 East Street\, Fort Edward\, NY\, will be hosting a complimentary workshop called\, "Making the Most of Social Security" on . The event is designed to help pre-retirees ages 50-70\, learn how to maximize their Social Security benefits prior to receiving them. Attendees will also learn valuable claiming strategies for individuals\, divorcees\, and married couples\; including how part/full-time employment impacts benefits.\n\n\n\nThe event is being presented by Retirement Solutions\, an office of MetLife. Seating is limited. Light refreshments will be served.
X-ALT-DESC;FMTTYPE=text/html:<span style="font-family: arial\,helvetica\,sans-serif\;"><span style="font-size: 12pt\;">The Fort Edward Free Library located at </span><span style="font-size: 12pt\;"><span style="color: black\;">23 East Street\, Fort Edward</span></span><span style="font-size: 12pt\;">\, NY\, will be hosting a complimentary workshop called\, <strong>&ldquo\;Making the Most of Social Security&rdquo\; </strong>on . The event is designed to help pre-retirees ages 50-70\, learn how to maximize their Social Security benefits prior to receiving them. Attendees will also learn valuable claiming strategies for individuals\, divorcees\, and married couples\; including how part/full-time employment impacts benefits.</span><br />\n<br />\n<span style="font-size: medium\;">The event is being presented by Retirement Solutions\, an office of MetLife. Seating is limited. Light refreshments will be served.</span></span><br />\n&nbsp\;
LOCATION:Fort Edward Free Library
UID:e.2254.12769
SEQUENCE:3
DTSTAMP:20260422T215503Z
URL:https://chamber.saratoga.org/events/details/fort-edward-free-library-to-host-social-security-workshop-10-28-2015-12769
END:VEVENT

END:VCALENDAR
