BEGIN:VCALENDAR
VERSION:2.0
PRODID:-//ChamberMaster//Event Calendar 2.0//EN
METHOD:PUBLISH
X-PUBLISHED-TTL:P3D
REFRESH-INTERVAL:P3D
CALSCALE:GREGORIAN
BEGIN:VEVENT
DTSTART:20150624T170000Z
DTEND:20150624T180000Z
X-MICROSOFT-CDO-ALLDAYEVENT:FALSE
SUMMARY:"For You Julia"\, The Final Victory
DESCRIPTION:In 1884\, General Ulysses S. Grant faced the double crisis of financial loss and terminal throat cancer with the same steely determination he had fought his Civil War campaigns two decades before. His final battle\, fought for those he loved\, would take him from his New York City townhouse to his New Jersey summer home and end in a small cottage on Mount McGregor in July 1885. This PowerPoint program features illustrated excerpts from Grant historian Melissa Trombley-Prosch's book of the same title\, which chronicles the last nineteen months of Grant's life and draws heavily from primary source material in her personal collection. Cookies\, baked from vintage recipes\, and lemonade will be served following the program. Presented by Melissa Trombley-Prosch.
X-ALT-DESC;FMTTYPE=text/html:In 1884\, General Ulysses S. Grant faced the double crisis of financial loss and terminal throat cancer with the same steely determination he had fought his Civil War campaigns two decades before. His final battle\, fought for those he loved\, would take him from his New York City townhouse to his New Jersey summer home and end in a small cottage on Mount McGregor in July 1885. This PowerPoint program features illustrated excerpts from Grant historian Melissa Trombley-Prosch&#39\;s book of the same title\, which chronicles the last nineteen months of Grant&#39\;s life and draws heavily from primary source material in her personal collection. Cookies\, baked from vintage recipes\, and lemonade will be served following the program. Presented by Melissa Trombley-Prosch.
LOCATION:Grant Cottage State Historic Site
UID:e.2254.5470
SEQUENCE:3
DTSTAMP:20260423T072909Z
URL:https://chamber.saratoga.org/events/details/for-you-julia-the-final-victory-06-24-2015-5470
END:VEVENT

END:VCALENDAR
