BEGIN:VCALENDAR
VERSION:2.0
PRODID:-//ChamberMaster//Event Calendar 2.0//EN
METHOD:PUBLISH
X-PUBLISHED-TTL:P3D
REFRESH-INTERVAL:P3D
CALSCALE:GREGORIAN
BEGIN:VEVENT
DTSTART:20160626T130000Z
DTEND:20160626T200000Z
X-MICROSOFT-CDO-ALLDAYEVENT:FALSE
SUMMARY:Fly Fishing Basics with Paul Sinicki. #882-0626.
DESCRIPTION:You've got your fly rod\, reel\, and flies and you're ready to get out on the water! Join Paul for a day of fly fishing. Get tips and guidance while you fish to improve your skills and just have fun! Students must be 16 years or older and have a valid New York State fishing license.
X-ALT-DESC;FMTTYPE=text/html:You&#39\;ve got your fly rod\, reel\, and flies and you&#39\;re ready to get out on the water! Join Paul for a day of fly fishing. Get tips and guidance while you fish to improve your skills and just have fun! Students must be 16 years or older and have a valid New York State fishing license.
LOCATION:Adirondack Folk School 51 Main Street Lake Luzerne\, NY 12846
UID:e.2254.15275
SEQUENCE:3
DTSTAMP:20260421T080704Z
URL:https://chamber.saratoga.org/events/details/fly-fishing-basics-with-paul-sinicki-882-0626-06-26-2016-15275
END:VEVENT

END:VCALENDAR
