BEGIN:VCALENDAR
VERSION:2.0
PRODID:-//ChamberMaster//Event Calendar 2.0//EN
METHOD:PUBLISH
X-PUBLISHED-TTL:P3D
REFRESH-INTERVAL:P3D
CALSCALE:GREGORIAN
BEGIN:VEVENT
DTSTART:20170225T170000Z
DTEND:20170225T210000Z
X-MICROSOFT-CDO-ALLDAYEVENT:FALSE
SUMMARY:Floor Loom Weaving: Where Did You Get that Hat? with Lori Carter-Secreti. #1046-0225. 1/2 Day
DESCRIPTION:Come spend a lovely winter afternoon learning how to weave on a floor loom and go home with a finished product! Students will learn how to weave a colorful panel which will be sewn\, lined and finished by the end of class. Several styles of hats will be offered and the fiber content will be a mixed blend with some wools included. Weaving experience is not necessary\, but if you have a favorite shuttle\, scissor or tape measure\, bring it along.
X-ALT-DESC;FMTTYPE=text/html:<pre>\n<span style="font-size: 12pt\;"><span style="font-family: arial\,sans-serif\;"><span style="color: black\;">Come spend a lovely winter afternoon learning how to weave on a floor loom and go home with a finished product! Students will learn how to weave a colorful panel which will be sewn\, lined and finished by the end of class. Several styles of hats will be offered and the fiber content will be a mixed blend with some wools included. Weaving experience is not necessary\, but if you have a favorite shuttle\, scissor or tape measure\, bring it along.</span></span></span></pre>\n
LOCATION:Adirondack Folk School 51 Main Street Lake Luzerne\, NY 12846
UID:e.2254.22325
SEQUENCE:3
DTSTAMP:20260420T115612Z
URL:https://chamber.saratoga.org/events/details/floor-loom-weaving-where-did-you-get-that-hat-with-lori-carter-secreti-1046-0225-1-2-day-22325
END:VEVENT

END:VCALENDAR
