BEGIN:VCALENDAR
VERSION:2.0
PRODID:-//ChamberMaster//Event Calendar 2.0//EN
METHOD:PUBLISH
X-PUBLISHED-TTL:P3D
REFRESH-INTERVAL:P3D
CALSCALE:GREGORIAN
BEGIN:VEVENT
DTSTART:20150811T230000Z
DTEND:20150812T020000Z
X-MICROSOFT-CDO-ALLDAYEVENT:FALSE
SUMMARY:Flicks at the Farm
DESCRIPTION:Spend a Summer evening at The DZ Farm for a Flicks at the Farm feature presentation of the romantic comedy Under The Tuscan Sun.  Relax on your blanket in the setting sun socializing with other moviegoers and enjoying your DZ Farm Picnic basket filled with gourmet movie snacks. The movie presentation begins at twilight as the sun sets around 8:00p m. During the film visit the cash bar or gather around the fire pit for authentic s'mores. Starring Diane Lane Under The Tuscan Sun tells the story of a writer who impulsively buys a villa in Tuscany in order to change her life. Tickets for Flicks at the Farm can be reserved by calling 518-583-1142 ? August 11th 7:00 pm $28/pp All Inclusive Featured Movie Under the Tuscan Sun.  Picnic Basket for Two Cash Bar  Wine and Beer  s'mores around the bonfire Arrive at 7:00pm.   Movie at 8:00pm .  Bring blanket and chairs
X-ALT-DESC;FMTTYPE=text/html:Spend a Summer evening at The DZ Farm for a Flicks at the Farm feature presentation of the romantic comedy Under The Tuscan Sun. &nbsp\;Relax on your blanket in the setting sun socializing with other moviegoers and enjoying your DZ Farm Picnic basket filled with gourmet movie snacks. The movie presentation begins at twilight as the sun sets around 8:00p m. During the film visit the cash bar or gather around the fire pit for authentic s&#39\;mores. Starring Diane Lane Under The Tuscan Sun tells the story of a writer who impulsively buys a villa in Tuscany in order to change her life. Tickets for Flicks at the Farm can be reserved by calling 518-583-1142 ? August 11th 7:00 pm $28/pp All Inclusive Featured Movie&nbsp\;Under the Tuscan Sun. &nbsp\;Picnic Basket for Two Cash Bar&nbsp\; Wine and Beer&nbsp\; s&#39\;mores around the bonfire Arrive at 7:00pm. &nbsp\; Movie at 8:00pm&nbsp\;. &nbsp\;Bring blanket and chairs
LOCATION:The DZ Farm 2023 Hermance Rd | Galway\, NY
UID:e.2254.10182
SEQUENCE:3
DTSTAMP:20260423T023041Z
URL:https://chamber.saratoga.org/events/details/flicks-at-the-farm-08-11-2015-10182
END:VEVENT

END:VCALENDAR
