BEGIN:VCALENDAR
VERSION:2.0
PRODID:-//ChamberMaster//Event Calendar 2.0//EN
METHOD:PUBLISH
X-PUBLISHED-TTL:P3D
REFRESH-INTERVAL:P3D
CALSCALE:GREGORIAN
BEGIN:VEVENT
DTSTART:20160205T210000Z
DTEND:20160206T020000Z
X-MICROSOFT-CDO-ALLDAYEVENT:FALSE
SUMMARY:First Friday of February!
DESCRIPTION:Have a special someone in your life this Valentine's Day? We will be open late the first Friday of February to help you out. Come on in between 4-9pm\, paint a heart shaped item and get a free studio fee! Create a unique and super original gift for the one you love this year. Call to reserve your paintbrush\, or walk right in!
X-ALT-DESC;FMTTYPE=text/html:Have a special someone in your life this Valentine&#39\;s Day? We will be open late the first Friday of February to help you out. Come on in between 4-9pm\, paint a heart shaped item and get a <strong>free studio fee</strong>! Create a unique and super original gift for the one you love this year. Call to reserve your paintbrush\, or walk right in!
LOCATION:Creative Sparks and Balloonatics
UID:e.2254.14402
SEQUENCE:3
DTSTAMP:20260422T022621Z
URL:https://chamber.saratoga.org/events/details/first-friday-of-february-02-05-2016-14402
END:VEVENT

END:VCALENDAR
