BEGIN:VCALENDAR
VERSION:2.0
PRODID:-//ChamberMaster//Event Calendar 2.0//EN
METHOD:PUBLISH
X-PUBLISHED-TTL:P3D
REFRESH-INTERVAL:P3D
CALSCALE:GREGORIAN
BEGIN:VEVENT
DTSTART:20160924T140000Z
DTEND:20160924T190000Z
X-MICROSOFT-CDO-ALLDAYEVENT:FALSE
SUMMARY:Fire Tower Hours
DESCRIPTION:Climb an authentic fire tower without having to climb a mountain! Get a treetop view of Wilton Wildlife Preserve & Park and visit a re-created fire ranger cabin complete with a vegetable garden. The schedule is subject to weather conditions and availability of Volunteer Fire Tower Interpreters. To confirm that it is open\, contact Larry Gordon (Town of Wilton Fire Tower Coordinator) at (518) 469-0918. Access is from Parking Lot #3 on Scout Road.
X-ALT-DESC;FMTTYPE=text/html:Climb an authentic fire tower without having to climb a mountain! Get a treetop view of Wilton Wildlife Preserve &amp\; Park and visit a re-created fire ranger cabin complete with a vegetable garden. The schedule is subject to weather conditions and availability of Volunteer Fire Tower Interpreters. To confirm that it is open\, contact Larry Gordon (Town of Wilton Fire Tower Coordinator) at (518) 469-0918. Access is from Parking Lot #3 on Scout Road.
LOCATION:Wilton Wildlife Preserve and Park at Camp Saratoga\, Parking Lot 3
UID:e.2254.19530
SEQUENCE:3
DTSTAMP:20260420T231550Z
URL:https://chamber.saratoga.org/events/details/fire-tower-hours-19530
END:VEVENT

END:VCALENDAR
