BEGIN:VCALENDAR
VERSION:2.0
PRODID:-//ChamberMaster//Event Calendar 2.0//EN
METHOD:PUBLISH
X-PUBLISHED-TTL:P3D
REFRESH-INTERVAL:P3D
CALSCALE:GREGORIAN
BEGIN:VEVENT
DTSTART:20160515T140000Z
DTEND:20160515T190000Z
X-MICROSOFT-CDO-ALLDAYEVENT:FALSE
SUMMARY:Fire Tower Hours
DESCRIPTION:Climb an authentic fire tower without having to climb a mountain! Get a treetop view of Wilton Wildlife Preserve & Park. Also visit the re-created Fire Rangers Cabin and learn about the life of a fire tower monitor. Access is from Parking Lot #3 on Scout Road. Open the second weekend of every month April-October.
X-ALT-DESC;FMTTYPE=text/html:Climb an authentic fire tower without having to climb a mountain! Get a treetop view of Wilton Wildlife Preserve &amp\; Park. Also visit the re-created Fire Rangers Cabin and learn about the life of a fire tower monitor. Access is from Parking Lot #3 on Scout Road. Open the second weekend of every month April-October.
LOCATION:Parking Lot 3 Scout Road Gansevoort\, NY 12831
UID:e.2254.16657
SEQUENCE:3
DTSTAMP:20260421T180433Z
URL:https://chamber.saratoga.org/events/details/fire-tower-hours-05-15-2016-16657
END:VEVENT

END:VCALENDAR
