BEGIN:VCALENDAR
VERSION:2.0
PRODID:-//ChamberMaster//Event Calendar 2.0//EN
METHOD:PUBLISH
X-PUBLISHED-TTL:P3D
REFRESH-INTERVAL:P3D
CALSCALE:GREGORIAN
BEGIN:VEVENT
DTSTART:20160903T230000Z
DTEND:20160904T030000Z
X-MICROSOFT-CDO-ALLDAYEVENT:FALSE
SUMMARY:Final Stretch Music Festival
DESCRIPTION:Downtown live music festival featuring various outdoor music sites
X-ALT-DESC;FMTTYPE=text/html:Downtown live music festival featuring various outdoor music sites
LOCATION:Downtown Saratoga Springs
UID:e.2254.14411
SEQUENCE:3
DTSTAMP:20260421T004024Z
URL:https://chamber.saratoga.org/events/details/final-stretch-music-festival-09-03-2016-14411
END:VEVENT

END:VCALENDAR
