BEGIN:VCALENDAR
VERSION:2.0
PRODID:-//ChamberMaster//Event Calendar 2.0//EN
METHOD:PUBLISH
X-PUBLISHED-TTL:P3D
REFRESH-INTERVAL:P3D
CALSCALE:GREGORIAN
BEGIN:VEVENT
DTSTART:20150619T230000Z
DTEND:20150620T010000Z
X-MICROSOFT-CDO-ALLDAYEVENT:FALSE
SUMMARY:Film Screening: Arvind
DESCRIPTION:MDOCS Storytellers' Institute Presents Film Screening of Arvind Award-winning filmmaker Evan Roberts presents Arvind (2014)\, chronicling the experiences of a queer teenage boy who embarks on a journey to document the dramatic story of his life. 7 p.m.-Davis Auditorium For more information call 518-580-5272
X-ALT-DESC;FMTTYPE=text/html:MDOCS Storytellers&#39\; Institute Presents Film Screening of Arvind Award-winning filmmaker Evan Roberts presents Arvind (2014)\, chronicling the experiences of a queer teenage boy who embarks on a journey to document the dramatic story of his life. 7 p.m.-Davis Auditorium For more information call 518-580-5272
LOCATION:Skidmore College\, Davis Auditorium 815 North Broadway Saratoga Springs\, NY 12866
UID:e.2254.9631
SEQUENCE:3
DTSTAMP:20260423T072744Z
URL:https://chamber.saratoga.org/events/details/film-screening-arvind-06-19-2015-9631
END:VEVENT

END:VCALENDAR
