BEGIN:VCALENDAR
VERSION:2.0
PRODID:-//ChamberMaster//Event Calendar 2.0//EN
METHOD:PUBLISH
X-PUBLISHED-TTL:P3D
REFRESH-INTERVAL:P3D
CALSCALE:GREGORIAN
BEGIN:VEVENT
DTSTART:20150925T230000Z
DTEND:20150926T003000Z
X-MICROSOFT-CDO-ALLDAYEVENT:FALSE
SUMMARY:Film: A Small Act
DESCRIPTION:Part of Saratoga Peace Week. Film presented by Skidmore African Club with discussion and skype session. This film follows Chris who as a child is able to attend school in Kenya\, thanks to Hilde Back\, a school teacher Chris has never met. After receiving a scholarship\, Chris studies law at Harvard and joins the UN as a human rights legal advocate. He establishes a foundation to award scholarships to needy children and embarks on a search to find and thank Hilde.
X-ALT-DESC;FMTTYPE=text/html:Part of Saratoga Peace Week. Film presented by Skidmore African Club with discussion and skype session. This film follows Chris who as a child is able to attend school in Kenya\, thanks to Hilde Back\, a school teacher Chris has never met. After receiving a scholarship\, Chris studies law at Harvard and joins the UN as a human rights legal advocate. He establishes a foundation to award scholarships to needy children and embarks on a search to find and thank Hilde.
LOCATION:Skidmore College\, Emerson Auditorium in Palamountain Hall
UID:e.2254.12339
SEQUENCE:3
DTSTAMP:20260423T005422Z
URL:https://chamber.saratoga.org/events/details/film-a-small-act-09-25-2015-12339
END:VEVENT

END:VCALENDAR
