BEGIN:VCALENDAR
VERSION:2.0
PRODID:-//ChamberMaster//Event Calendar 2.0//EN
METHOD:PUBLISH
X-PUBLISHED-TTL:P3D
REFRESH-INTERVAL:P3D
CALSCALE:GREGORIAN
BEGIN:VEVENT
DTSTART;VALUE=DATE:20151116
DTEND;VALUE=DATE:20151118
TRANSP:TRANSPARENT
X-MICROSOFT-CDO-ALLDAYEVENT:TRUE
SUMMARY:Feminine Money Magic - 2-day Retreat for Women Business Owners
DESCRIPTION:It IS possible to charge your worth\, make fabulous profits and keep more money to provide for yourself\, your family\, and the other people and causes you love. \n\nBut maybe you're just not making the income you want\, or money is flowing but profits seem elusive. The problem isn't that you aren't good enough\, smart enough or whatever enough to succeed. The problem is most likely that you have MONEY BLOCKS created from years of ingrained patterns and learned behaviors that you picked up from childhood on\, and these blocks are keeping you playing small\, trapping you in a state of lack mentality that perpetuates itself. YOU DESERVE MORE   more freedom\, more connections with ideal clients\, more profit and more take-home income. (And with my background as a planning attorney I know a few things about keeping more in your bank account at tax-time\, too\, that I'm always happy to share!)\nFEMININE MONEY MAGIC is for YOU. Two days to immerse yourself\, escape your worries and stress\, reconnect with your inner guidance and learn from a certified Money Breakthrough Method  coach how to increase your net worth AND your self worth. And we are doing this at the perfect time to set you and your business up to make 2016 your best year ever.\n\n\n\nI'm excited to bring this event to Saratoga and want to include local business owners so I'm offering any Chamber member who wants to attend a complimentary General Admission ticket (currently $247 online). We ask for a REFUNDABLE $97 seat deposit as evidence of your commitment to attend\; a check will be waiting for you at the Registration table November 16th. \n\n\n\nQuestions? Please call me at (585) 330-8365 or email me at lisa@lisapowersinternational.com.\n\n\n\nSee you there!
X-ALT-DESC;FMTTYPE=text/html:<span style="color: rgb(34\, 34\, 34)\; font-family: tahoma\,geneva\,sans-serif\; font-size: 16px\; background-color: rgb(255\, 255\, 255)\;"><span style="font-family: times new roman\;">It IS possible to charge your worth\, make fabulous profits and keep more money to provide for yourself\, your family\, and the other people and causes you love.&nbsp\;</span></span>\n\n<p><span style="font-size: 14px\;"><span style="font-family: times new roman\;">But maybe you&#39\;re just not making the income you want\, or money is flowing but profits seem elusive. The problem isn&rsquo\;t that you aren&rsquo\;t good enough\, smart enough or whatever enough to succeed.&nbsp\;The problem is most likely that&nbsp\;<strong>you have MONEY BLOCKS created from years of ingrained patterns</strong>&nbsp\;and learned behaviors that you picked up from childhood on\, and these blocks are keeping you playing small\, trapping you in a state of lack mentality that perpetuates itself. YOU DESERVE MORE &ndash\; more freedom\, more connections with ideal clients\, more profit and more take-home income. (And with my background as a planning attorney I know a few things about keeping more in your bank account at tax-time\, too\, that I&rsquo\;m always happy to share!)</span></span></p>\n<span style="color: rgb(34\, 34\, 34)\; font-family: tahoma\,geneva\,sans-serif\; font-size: 16px\; background-color: rgb(255\, 255\, 255)\;"><span style="font-family: times new roman\;">FEMININE MONEY MAGIC is for YOU. Two days to immerse yourself\, escape your worries and stress\, reconnect with your inner guidance and learn from a certified Money Breakthrough Method&trade\; coach how to increase your net worth AND your self worth.&nbsp\;And we are doing this at the perfect time to set you and your business up to make 2016 your best year ever.<br />\n<br />\nI&#39\;m excited to bring this event to Saratoga and want to include local business owners so I&#39\;m offering any Chamber member who wants to attend a complimentary General Admission ticket (currently $247 online). We ask for a REFUNDABLE $97 seat deposit as evidence of your commitment to attend\; a check will be waiting for you at the Registration table November 16th.&nbsp\;<br />\n<br />\nQuestions? Please call me at (585) 330-8365 or email me at lisa@lisapowersinternational.com.<br />\n<br />\nSee you there!</span></span><br />\n&nbsp\;
LOCATION:Gideon Putnam Resort 24 Gideon Putnam Road Saratoga Springs\, New York 12866
UID:e.2254.12799
SEQUENCE:3
DTSTAMP:20260422T104351Z
URL:https://chamber.saratoga.org/events/details/feminine-money-magic-2-day-retreat-for-women-business-owners-11-16-2015-12799
END:VEVENT

END:VCALENDAR
