BEGIN:VCALENDAR
VERSION:2.0
PRODID:-//ChamberMaster//Event Calendar 2.0//EN
METHOD:PUBLISH
X-PUBLISHED-TTL:P3D
REFRESH-INTERVAL:P3D
CALSCALE:GREGORIAN
BEGIN:VEVENT
DTSTART:20140911T190000Z
DTEND:20140911T230000Z
X-MICROSOFT-CDO-ALLDAYEVENT:FALSE
SUMMARY:Feast of the Fields - 09/11/2014
DESCRIPTION:Saratoga PLAN's annual fundraising eventFeast of the Fields is Saratoga PLAN's annual fundraiser where guests get to enjoy locally farmed food prepared by well known chefs throughout the county at the Saratoga National Golf Club. Also at the event is our silent auction\, which in the past has raised money for PLAN to continue its mission of land conservation\, working to preserve the rural character\, natural habitats and scenic beauty of Saratoga County. Join us as we celebrate the conservation heroes in our community\, while delighting in the wonderfully prepared food from our local farms!\nReservations required. Contact emily@saratogaplan.org for more information.
X-ALT-DESC;FMTTYPE=text/html:<p>Saratoga PLAN's annual fundraising event</p><p>Feast of the Fields is Saratoga PLAN's annual fundraiser where guests get to enjoy locally farmed food prepared by well known chefs throughout the county at the Saratoga National Golf Club. Also at the event is our silent auction\, which in the past has raised money for PLAN to continue its mission of land conservation\, working to preserve the rural character\, natural habitats and scenic beauty of Saratoga County. Join us as we celebrate the conservation heroes in our community\, while delighting in the wonderfully prepared food from our local farms!<br>Reservations required. Contact emily@saratogaplan.org for more information.</p>
LOCATION:Saratoga National Golf Club
UID:e.2254.3468
SEQUENCE:3
DTSTAMP:20260424T142259Z
URL:https://chamber.saratoga.org/events/details/feast-of-the-fields-09-11-2014-09-11-2014-3468
END:VEVENT

END:VCALENDAR
