BEGIN:VCALENDAR
VERSION:2.0
PRODID:-//ChamberMaster//Event Calendar 2.0//EN
METHOD:PUBLISH
X-PUBLISHED-TTL:P3D
REFRESH-INTERVAL:P3D
CALSCALE:GREGORIAN
BEGIN:VEVENT
DTSTART:20160619T140000Z
DTEND:20160619T210000Z
X-MICROSOFT-CDO-ALLDAYEVENT:FALSE
SUMMARY:Fathers Friends & Fire 4th Generation & Comoys Event
DESCRIPTION:Fathers Friends & Fire Event Last Day. Stop in for that perfect 4th Generation Pipe and Pipe Tobacco Fathers Day gift\, or that perfect pairing of Comoys Pipes and accessories. The raffle will be drawn at 5:00 pm today to decide the winners of the exclusive prizes.
X-ALT-DESC;FMTTYPE=text/html:<span style="background-color:rgb(255\, 255\, 255)\; font-family:arial\,sans-serif\; font-size:small">Fathers Friends &amp\; Fire Event Last Day. Stop in for that perfect 4th Generation Pipe and Pipe Tobacco Fathers Day gift\, or that perfect pairing of Comoys Pipes and accessories. The raffle will be drawn at 5:00 pm today to decide the winners of the exclusive prizes. </span>
LOCATION:Queensbury Cigar & Pipe 1036 State Route 9 Queensbury\, New York 12804
UID:e.2254.16989
SEQUENCE:3
DTSTAMP:20260421T080539Z
URL:https://chamber.saratoga.org/events/details/fathers-friends-fire-4th-generation-comoys-event-06-19-2016-16989
END:VEVENT

END:VCALENDAR
