BEGIN:VCALENDAR
VERSION:2.0
PRODID:-//ChamberMaster//Event Calendar 2.0//EN
METHOD:PUBLISH
X-PUBLISHED-TTL:P3D
REFRESH-INTERVAL:P3D
CALSCALE:GREGORIAN
BEGIN:VEVENT
DTSTART:20160209T220000Z
DTEND:20160210T010000Z
X-MICROSOFT-CDO-ALLDAYEVENT:FALSE
SUMMARY:FAT TUESDAY PARTY
DESCRIPTION:NEW ORLEANS CUISINE JAMBALAYA SEAFOOD GUMBO MUFFULETTA'S $2 DRINK SPECIALS
X-ALT-DESC;FMTTYPE=text/html:NEW ORLEANS CUISINE JAMBALAYA SEAFOOD GUMBO MUFFULETTA&#39\;S $2 DRINK SPECIALS
LOCATION:KNIGHTS OF COLUMBUS 50 PINE ROAD SARATOGA SPRINGS
UID:e.2254.14401
SEQUENCE:3
DTSTAMP:20260422T022350Z
URL:https://chamber.saratoga.org/events/details/fat-tuesday-party-02-09-2016-14401
END:VEVENT

END:VCALENDAR
