BEGIN:VCALENDAR
VERSION:2.0
PRODID:-//ChamberMaster//Event Calendar 2.0//EN
METHOD:PUBLISH
X-PUBLISHED-TTL:P3D
REFRESH-INTERVAL:P3D
CALSCALE:GREGORIAN
BEGIN:VEVENT
DTSTART:20150706T123000Z
DTEND:20150710T190000Z
X-MICROSOFT-CDO-ALLDAYEVENT:FALSE
SUMMARY:Fashion Tech Design Summer Camp
DESCRIPTION:Calling all Fashionistas! Bring your sense of style and creativity and learn to design. Learn about design styles from around the world. Find your design inspiration by creating a fashion board. With the use of technology\, create sketches and illustrations. Learn some basic sewing tips and finish with your very own fashion portfolio. Age Group: 9-13 Class Size: 21 Children Pricing: $120 Schedule: Monday to Friday: From 8:30 AM to 3:00 PM Sessions: Week 1: July 6th.Week 3: July 20 th Week 5: Aug 3rd Week 7: Aug 17 th Registration: http://thegeniusplaza.com/fashion-tech-design-2/ Phone: 518.280.9550
X-ALT-DESC;FMTTYPE=text/html:Calling all Fashionistas! Bring your sense of style and creativity and learn to design. Learn about design styles from around the world. Find your design inspiration by creating a fashion board. With the use of technology\, create sketches and illustrations. Learn some basic sewing tips and finish with your very own fashion portfolio. Age Group: 9-13 Class Size: 21 Children Pricing: $120 Schedule: Monday to Friday: From 8:30 AM to 3:00 PM Sessions: Week 1: July 6th.Week 3: July 20 th Week 5: Aug 3rd Week 7: Aug 17 th Registration: http://thegeniusplaza.com/fashion-tech-design-2/ Phone: 518.280.9550
LOCATION:The Genius Plaza - 511 Moe Road\, Clifton Park\, NY 12065
UID:e.2254.7617
SEQUENCE:3
DTSTAMP:20260423T041040Z
URL:https://chamber.saratoga.org/events/details/fashion-tech-design-summer-camp-07-06-2015-7617
END:VEVENT

END:VCALENDAR
