BEGIN:VCALENDAR
VERSION:2.0
PRODID:-//ChamberMaster//Event Calendar 2.0//EN
METHOD:PUBLISH
X-PUBLISHED-TTL:P3D
REFRESH-INTERVAL:P3D
CALSCALE:GREGORIAN
BEGIN:VEVENT
DTSTART:20150122T223000Z
DTEND:20150123T000000Z
X-MICROSOFT-CDO-ALLDAYEVENT:FALSE
SUMMARY:Farmers Insurance Group Information Session
DESCRIPTION:Farmers Insurance Group is Hosting an Information Session on Thursday\, January 22 from 5:30-7:00PM. to be held at the Saratoga Hilton at 534 Broadway in Saratoga Springs\, NY. Farmers has recently expanded its brand into New York State and we are seeking Entrepreneurs who are interested in owning and operating their own business as a Farmers Insurance Agent. We are also looking for Professionals who want to work as Insurance Producers in our current offices located throughout New York. Farmers is currently offering a financial package worth up to 270\,000.00 dollars over the first 3 years of operation. Please feel free to join us as we will provide lite refreshments and an overview of the components and value proposition of what is entailed  to become a Farmers Insurance Agent! This is a once in a lifetime opportunity to become a business owner and be a part of one of the largest Insurance Companies in the Country! \n\n    If interested\, please contact Patrick Van Slyke at 518-321-5494 or e-mail patrick.van.slyke@farmersinsurance.com.
X-ALT-DESC;FMTTYPE=text/html:Farmers Insurance Group is Hosting an Information Session on Thursday\, January 22 from 5:30-7:00PM. to be held at the Saratoga Hilton at 534 Broadway in Saratoga Springs\, NY. Farmers has&nbsp\;recently expanded its brand into New York State and we are seeking Entrepreneurs who are interested in owning and operating their own business as a Farmers Insurance Agent. We are also looking for Professionals who want to work as Insurance Producers in our current offices located throughout New York. Farmers is currently offering a financial package worth up to 270\,000.00 dollars over the first 3 years of operation. Please feel free to join us as we will provide lite refreshments and an overview of the components and value proposition of what is&nbsp\;entailed &nbsp\;to become a Farmers Insurance Agent! This is a once in a lifetime opportunity to become a business owner and be a part of one of the largest Insurance Companies in the Country!&nbsp\;<br />\n&nbsp\;&nbsp\;&nbsp\; If interested\, please contact Patrick Van Slyke at 518-321-5494 or e-mail <a href="mailto:patrick.van.slyke@farmersinsurance.com">patrick.van.slyke@farmersinsurance.com</a>.
LOCATION:Saratoga Hilton 534 Broadway\, Saratoga Springs\, NY
UID:e.2254.939
SEQUENCE:3
DTSTAMP:20260424T014948Z
URL:https://chamber.saratoga.org/events/details/farmers-insurance-group-information-session-01-22-2015-939
END:VEVENT

END:VCALENDAR
