BEGIN:VCALENDAR
VERSION:2.0
PRODID:-//ChamberMaster//Event Calendar 2.0//EN
METHOD:PUBLISH
X-PUBLISHED-TTL:P3D
REFRESH-INTERVAL:P3D
CALSCALE:GREGORIAN
BEGIN:VEVENT
DTSTART:20150718T160000Z
DTEND:20150718T190000Z
X-MICROSOFT-CDO-ALLDAYEVENT:FALSE
SUMMARY:Farm Open House at Old Friends at Cabin Creek
DESCRIPTION:Looking for an Open House this weekend in a beautiful outdoor setting? A setting where you'll see and get close to amazing retired thoroughbred racehorses? Come visit all our 14 equine athletes at Old Friends at Cabin Creek\, 483 Sand Hill Rd. in Greenfield Center\, NY this Saturday\, July 18 from noon to 3 pm. The horses love carrots\, mints and your admiring attention. Admission is free and your donations are gratefully accepted. Old Friends at Cabin Creek\, the Bobby Frankel Division\, is a 501(c)3 non-profit organization staffed completely by volunteers and owned by JoAnn and Mark Pepper. The farm has been in operation since fall of 2009. Open House is held every Saturday in fall\, winter and spring from noon-3 pm and on Tuesdays\, Thursdays\, Fridays and Saturdays during the Saratoga Race Meet from 11-4 pm.
X-ALT-DESC;FMTTYPE=text/html:Looking for an Open House this weekend in a beautiful outdoor setting? A setting where you&#39\;ll see and get close to amazing retired thoroughbred racehorses? Come visit all our 14 equine athletes at Old Friends at Cabin Creek\, 483 Sand Hill Rd. in Greenfield Center\, NY this Saturday\, July 18 from noon to 3 pm. The horses love carrots\, mints and your admiring attention. Admission is free and your donations are gratefully accepted. Old Friends at Cabin Creek\, the Bobby Frankel Division\, is a 501(c)3 non-profit organization staffed completely by volunteers and owned by JoAnn and Mark Pepper. The farm has been in operation since fall of 2009. Open House is held every Saturday in fall\, winter and spring from noon-3 pm and on Tuesdays\, Thursdays\, Fridays and Saturdays during the Saratoga Race Meet from 11-4 pm.
LOCATION:Old Friends at Cabin Creek 483 Sand Hill Rd. Greenfield Center\, NY 12833
UID:e.2254.10104
SEQUENCE:3
DTSTAMP:20260423T041435Z
URL:https://chamber.saratoga.org/events/details/farm-open-house-at-old-friends-at-cabin-creek-07-18-2015-10104
END:VEVENT

END:VCALENDAR
