BEGIN:VCALENDAR
VERSION:2.0
PRODID:-//ChamberMaster//Event Calendar 2.0//EN
METHOD:PUBLISH
X-PUBLISHED-TTL:P3D
REFRESH-INTERVAL:P3D
CALSCALE:GREGORIAN
BEGIN:VEVENT
DTSTART:20160626T170000Z
DTEND:20160626T193000Z
X-MICROSOFT-CDO-ALLDAYEVENT:FALSE
SUMMARY:Fancy Turkey Wing Broom with Karen Koch. #903-0626.
DESCRIPTION:The fancy Turkey Wing makes an excellent whisk broom or hearth broom. Come make a fancy Turkey Wing Broom suitable for all kinds of sweeping! The handle will be made with colorful basket reed. Twine will be wound into a striped like pattern on the body of the broom.
X-ALT-DESC;FMTTYPE=text/html:The fancy Turkey Wing makes an excellent whisk broom or hearth broom. Come make a fancy Turkey Wing Broom suitable for all kinds of sweeping! The handle will be made with colorful basket reed. Twine will be wound into a striped like pattern on the body of the broom.
LOCATION:Adirondack Folk School 51 Main Street Lake Luzerne\, NY 12846
UID:e.2254.15276
SEQUENCE:3
DTSTAMP:20260421T080703Z
URL:https://chamber.saratoga.org/events/details/fancy-turkey-wing-broom-with-karen-koch-903-0626-06-26-2016-15276
END:VEVENT

END:VCALENDAR
