BEGIN:VCALENDAR
VERSION:2.0
PRODID:-//ChamberMaster//Event Calendar 2.0//EN
METHOD:PUBLISH
X-PUBLISHED-TTL:P3D
REFRESH-INTERVAL:P3D
CALSCALE:GREGORIAN
BEGIN:VEVENT
DTSTART:20150925T210000Z
DTEND:20150926T000000Z
X-MICROSOFT-CDO-ALLDAYEVENT:FALSE
SUMMARY:Family Fun Fest with Seth and The Moody Melix
DESCRIPTION:Seth and the Moody Melix Band will be entertaining & playing.   This Festival is for families with elementary school aged children! There will be Face Painting\, Balloon Animals & Dance Party! This is a great event for families and for elementary aged children! This is a Fundraiser for the TEEN TROUPE cast of Seussical to attend The National Performing Arts Festival in Disney World.  Tickets available at the door only.
X-ALT-DESC;FMTTYPE=text/html:Seth and the Moody Melix Band will be entertaining &amp\; playing.&nbsp\; &nbsp\;This Festival is for families with elementary school aged children! There will be Face Painting\, Balloon Animals &amp\; Dance Party! This is a great event for families and for elementary aged children! This is a Fundraiser for the TEEN TROUPE cast of Seussical to attend The National Performing Arts Festival in Disney World.&nbsp\; Tickets available at the door only.
LOCATION:Saratoga Music Hall\, 3rd Floor City Hall\, Broadway Saratoga Springs
UID:e.2254.12367
SEQUENCE:3
DTSTAMP:20260423T005927Z
URL:https://chamber.saratoga.org/events/details/family-fun-fest-with-seth-and-the-moody-melix-09-25-2015-12367
END:VEVENT

END:VCALENDAR
