BEGIN:VCALENDAR
VERSION:2.0
PRODID:-//ChamberMaster//Event Calendar 2.0//EN
METHOD:PUBLISH
X-PUBLISHED-TTL:P3D
REFRESH-INTERVAL:P3D
CALSCALE:GREGORIAN
BEGIN:VEVENT
DTSTART:20150704T150000Z
DTEND:20150704T190000Z
X-MICROSOFT-CDO-ALLDAYEVENT:FALSE
SUMMARY:Family Fun Day
DESCRIPTION:This fun event will offer families the chance to visit with historical reenactors\, participate in historic games\, with free balloons and more. The History Museum\, located in the historic Canfield Casino\, will also be open to visit and take a trip back into early Saratoga Springs. This special event is part of the Saratoga Springs All-American Celebration Weekend official schedule.
X-ALT-DESC;FMTTYPE=text/html:This fun event will offer families the chance to visit with historical reenactors\, participate in historic games\, with free balloons and more. The History Museum\, located in the historic Canfield Casino\, will also be open to visit and take a trip back into early Saratoga Springs. This special event is part of the Saratoga Springs All-American Celebration Weekend official schedule.
LOCATION:The Saratoga Springs History Museum PO Box 216 1 East Congress Street The Canfield Casino in Congress Park Saratoga Springs\, NY 12866
UID:e.2254.9980
SEQUENCE:3
DTSTAMP:20260423T040942Z
URL:https://chamber.saratoga.org/events/details/family-fun-day-07-04-2015-9980
END:VEVENT

END:VCALENDAR
