BEGIN:VCALENDAR
VERSION:2.0
PRODID:-//ChamberMaster//Event Calendar 2.0//EN
METHOD:PUBLISH
X-PUBLISHED-TTL:P3D
REFRESH-INTERVAL:P3D
CALSCALE:GREGORIAN
BEGIN:VEVENT
DTSTART:20160420T230000Z
DTEND:20160421T000000Z
X-MICROSOFT-CDO-ALLDAYEVENT:FALSE
SUMMARY:Family Frog Watch
DESCRIPTION:Bring your family to the preserve & park for an evening of listening for local amphibians! Meet at 80 Scout Rd to learn about the frogs of the sandplains. From there\, we'll head to a wetland to listen for some frog calls Pre registration is required by April 19th.
X-ALT-DESC;FMTTYPE=text/html:Bring your family to the preserve &amp\; park for an evening of listening for local amphibians! Meet at 80 Scout Rd to learn about the frogs of the sandplains. From there\, we&#39\;ll head to a wetland to listen for some frog calls Pre&nbsp\;registration is required by April 19th.
LOCATION:80 Scout rd\, Gansevoort NY
UID:e.2254.15576
SEQUENCE:3
DTSTAMP:20260421T163932Z
URL:https://chamber.saratoga.org/events/details/family-frog-watch-04-20-2016-15576
END:VEVENT

END:VCALENDAR
