BEGIN:VCALENDAR
VERSION:2.0
PRODID:-//ChamberMaster//Event Calendar 2.0//EN
METHOD:PUBLISH
X-PUBLISHED-TTL:P3D
REFRESH-INTERVAL:P3D
CALSCALE:GREGORIAN
BEGIN:VEVENT
DTSTART;VALUE=DATE:20151017
DTEND;VALUE=DATE:20151019
TRANSP:TRANSPARENT
X-MICROSOFT-CDO-ALLDAYEVENT:TRUE
SUMMARY:Fall Family Fest Train
DESCRIPTION:Boasting some of the best fall foliage in all of New York\, the Adirondacks brilliant colors will amaze all who ride the Fall Family Fest Train.  This family-friendly excursion train will delight all ages as it rambles past the majestic Adirondack Mountains and upper Hudson River.  Family-friendly activities and entertainment for all included.
X-ALT-DESC;FMTTYPE=text/html:<span style="font-size: medium\;"><span style="font-family: calibri\;">Boasting some of the best fall foliage in all of New York\, the Adirondacks brilliant colors will amaze all who ride the Fall Family Fest Train.&nbsp\; This family-friendly excursion train will delight all ages as it rambles past the majestic Adirondack Mountains and upper Hudson River.&nbsp\; Family-friendly activities and entertainment for all included.</span></span><br />\n&nbsp\;
LOCATION:26 Station Lane\, Saratoga Springs\, NY 12866
UID:e.2254.6913
SEQUENCE:3
DTSTAMP:20260422T130344Z
URL:https://chamber.saratoga.org/events/details/fall-family-fest-train-10-17-2015-6913
END:VEVENT

END:VCALENDAR
