BEGIN:VCALENDAR
VERSION:2.0
PRODID:-//ChamberMaster//Event Calendar 2.0//EN
METHOD:PUBLISH
X-PUBLISHED-TTL:P3D
REFRESH-INTERVAL:P3D
CALSCALE:GREGORIAN
BEGIN:VEVENT
DTSTART:20150916T213000Z
DTEND:20150916T233000Z
X-MICROSOFT-CDO-ALLDAYEVENT:FALSE
SUMMARY:Fall Back into Shape- Coolsculpting Event!! Freeze away your fat!!
DESCRIPTION:Join the Williams Rejuva Center on Wednesday\, September 16th at 5:30pm \n\nto find out how you can reshape your body with CoolSculpting.\n\n \n*Offering 25% OFF for all attendees\n\n*Meet our team of CoolSculpt Specialists\n\n*No Surgery\, No Downtime\, No Needles....\n\n*Serving Light Refreshments\n\n \nOur CoolSculpt Specialists are all Registered Nurses and Nurse Practitioners\, who follow the treatment plan\n\nDr. Alain Polynice\, board certified plastic surgeon\, creates after evaluating all CoolSculpt candidates.\n\n \n\nWith the CoolSculpting procedure you can eliminate stubborn fat without surgery or downtime.\n\nCome see what all the fuss is about\, and know you are in good hands with our team of SPECIALISTS!\n\n\n\nCall (518)786-7004  to reserve your seat!
X-ALT-DESC;FMTTYPE=text/html:<div style="text-align: center\;">&nbsp\;</div>\n\n<div style="text-align: center\;"><span style="font-size: 18px\;"><em><span style="color: rgb(0\, 0\, 205)\;"><strong>Join the Williams Rejuva Center on Wednesday\, September 16th at 5:30pm </strong></span></em></span></div>\n\n<div style="text-align: center\;"><span style="font-size: 18px\;"><em><span style="color: rgb(0\, 0\, 205)\;"><strong>to find out how you can reshape your body with CoolSculpting.</strong></span></em></span><br />\n&nbsp\;</div>\n<span style="color: rgb(75\, 0\, 130)\;"><span style="font-size: 24px\;"><strong><span style="background-color: rgb(255\, 255\, 255)\;">*Offering 25% OFF for all attendees</span></strong></span><br />\n<span style="font-size: 24px\;"><strong><span style="background-color: rgb(255\, 255\, 255)\;">*Meet our team of CoolSculpt Specialists</span></strong></span><br />\n<span style="font-size: 24px\;"><strong><span style="background-color: rgb(255\, 255\, 255)\;">*No Surgery\, No Downtime\, No Needles....</span></strong></span><br />\n<span style="font-size: 24px\;"><strong><span style="background-color: rgb(255\, 255\, 255)\;">*Serving Light Refreshments</span></strong></span></span><br />\n&nbsp\;\n<div style="text-align: center\;"><span style="font-size: 24px\;"><span style="color: rgb(0\, 0\, 205)\;"><strong>Our CoolSculpt Specialists are all Registered Nurses and Nurse Practitioners\, who follow the treatment plan<br />\nDr. Alain Polynice\, board certified plastic surgeon\, creates after evaluating all CoolSculpt candidates.</strong></span></span><br />\n&nbsp\;</div>\n\n<div style="text-align: center\;"><span style="color: rgb(0\, 128\, 0)\;"><span style="font-family: verdana\;"><span style="font-size: 20px\;"><strong>With the CoolSculpting procedure you can eliminate stubborn fat without surgery or downtime.<br />\nCome see what all the fuss is about\, and know you are in good hands with our team of SPECIALISTS!</strong></span></span></span><br />\n<br />\n<span style="color: rgb(0\, 0\, 255)\;"><span style="font-size: 28px\;"><strong><span style="background-color: rgb(255\, 255\, 255)\;">Call (518)786-7004&nbsp\; to reserve your seat!</span></strong></span></span></div>\n\n<div style="text-align: center\;">&nbsp\;</div>\n
LOCATION:1072 Troy Schenectady Rd. Latham\, N.Y. 12110
UID:e.2254.11237
SEQUENCE:3
DTSTAMP:20260423T003923Z
URL:https://chamber.saratoga.org/events/details/fall-back-into-shape-coolsculpting-event-freeze-away-your-fat-09-16-2015-11237
END:VEVENT

END:VCALENDAR
