BEGIN:VCALENDAR
VERSION:2.0
PRODID:-//ChamberMaster//Event Calendar 2.0//EN
METHOD:PUBLISH
X-PUBLISHED-TTL:P3D
REFRESH-INTERVAL:P3D
CALSCALE:GREGORIAN
BEGIN:VEVENT
DTSTART:20150310T213000Z
DTEND:20150310T230000Z
X-MICROSOFT-CDO-ALLDAYEVENT:FALSE
SUMMARY:F. William Harder Endowed Lecture: "Department of Home(Town) Security"
DESCRIPTION:By Majora Carter\, urban revitalization strategy consultant\, real estate developer\, and Peabody Award-winning broadcaster. Reception to follow the lecture. 5:30 p.m.-Gannett Auditorium For more information call 518-580-5675
X-ALT-DESC;FMTTYPE=text/html:By Majora Carter\, urban revitalization strategy consultant\, real estate developer\, and Peabody Award-winning broadcaster. Reception to follow the lecture. 5:30 p.m.-Gannett Auditorium For more information call 518-580-5675
LOCATION:Gannett Auditorium Skidmore College 815 N Broadway Saratoga Springs\, NY 12866
UID:e.2254.6142
SEQUENCE:3
DTSTAMP:20260423T230955Z
URL:https://chamber.saratoga.org/events/details/f-william-harder-endowed-lecture-department-of-home-town-security-03-10-2015-6142
END:VEVENT

END:VCALENDAR
