BEGIN:VCALENDAR
VERSION:2.0
PRODID:-//ChamberMaster//Event Calendar 2.0//EN
METHOD:PUBLISH
X-PUBLISHED-TTL:P3D
REFRESH-INTERVAL:P3D
CALSCALE:GREGORIAN
BEGIN:VEVENT
DTSTART:20160707T230000Z
DTEND:20160708T000000Z
X-MICROSOFT-CDO-ALLDAYEVENT:FALSE
SUMMARY:Expectant Parents' Night
DESCRIPTION:Come and enjoy a free\, one hour class that will introduce you to the Women's Health Services Unit and the Saratoga Hospital Midwives. This class will include an overview of the services available\, an introduction of the other classes offered to expectant parents\, and time for questions. Come join us and see what we're all about!
X-ALT-DESC;FMTTYPE=text/html:Come and enjoy a free\, one hour class that will introduce you to the Women&rsquo\;s Health Services Unit and the Saratoga Hospital Midwives. This class will include an overview of the services available\, an introduction of the other classes offered to expectant parents\, and time for questions. Come join us and see what we&rsquo\;re all about!
LOCATION:Saratoga Hospital C-1 Classroom
UID:e.2254.16969
SEQUENCE:3
DTSTAMP:20260421T092718Z
URL:https://chamber.saratoga.org/events/details/expectant-parents-night-07-07-2016-16969
END:VEVENT

END:VCALENDAR
