BEGIN:VCALENDAR
VERSION:2.0
PRODID:-//ChamberMaster//Event Calendar 2.0//EN
METHOD:PUBLISH
X-PUBLISHED-TTL:P3D
REFRESH-INTERVAL:P3D
CALSCALE:GREGORIAN
BEGIN:VEVENT
DTSTART:20140928T120000Z
DTEND:20150104T210000Z
X-MICROSOFT-CDO-ALLDAYEVENT:FALSE
SUMMARY:Exhibition: Picturing America: Masterworks from the Westmoreland Museum of American Art - 09/28/2014
DESCRIPTION:57 paintings  ">From the 1758 Portrait of John Gardiner by John Singleton Copley to Milton Avery’s Arrangement with Plants of 1948\, the exhibition Picturing America presents paintings and sculptures that describe the American experience from the pre-Revolutionary War era to early Modernism. Renowned artists represented in this selection from the collection of the Westmoreland Museum of American Art include Milton Avery\, Mary Cassatt\, John Singleton Copley\, Childe Hassam\, Robert Henri\, George Inness\, Paul Manship\, John Sloan\, and Benjamin West\, as well as Charles Wilson Peale and his children Rembrandt\, Rubens\, and Mary Jane. The rich variety of expressive means including still-life\, portraiture\, genre and abstraction\, represented by the works in the exhibition\, provides a visual embodiment of such national ideals as freedom\, diversity\, and opportunity.  Picturing America: Signature Works from the Westmoreland Museum of American Art is organized and toured by the Westmoreland Museum of American Art\, Greensburg\, PA.
X-ALT-DESC;FMTTYPE=text/html:<p>57 paintings & sculptures that describe the American experience from the Colonial period to early Modernism</p><p style="line-height: 150%\;"><span style="font-size: 12pt\; line-height: 150%\;">From the 1758 <em>Portrait of John Gardiner</em> by John Singleton Copley to Milton Avery’s <em>Arrangement with Plants</em> of 1948\, the exhibition <em>Picturing America</em> presents paintings and sculptures that describe the American experience from the pre-Revolutionary War era to early Modernism. Renowned artists represented in this selection from the collection of the Westmoreland Museum of American Art include Milton Avery\, Mary Cassatt\, John Singleton Copley\, Childe Hassam\, Robert Henri\, George Inness\, Paul Manship\, John Sloan\, and Benjamin West\, as well as Charles Wilson Peale and his children Rembrandt\, Rubens\, and Mary Jane. The rich variety of expressive means including still-life\, portraiture\, genre and abstraction\, represented by the works in the exhibition\, provides a visual embodiment of such national ideals as freedom\, diversity\, and opportunity. </span></p> <p style="line-height: 150%\;"><em><span style="font-size: 12pt\; line-height: 150%\;">Picturing America: Signature Works from the Westmoreland Museum of American Art</span></em><span style="font-size: 12pt\; line-height: 150%\;"> is organized and toured by the Westmoreland Museum of American Art\, Greensburg\, PA.&nbsp\;</span></p>
LOCATION:The Hyde Collection Art Museum
UID:e.2254.3509
SEQUENCE:3
DTSTAMP:20260424T021515Z
URL:https://chamber.saratoga.org/events/details/exhibition-picturing-america-masterworks-from-the-westmoreland-museum-of-american-art-09-28-2014-09-28-2014-3509
END:VEVENT

END:VCALENDAR
