BEGIN:VCALENDAR
VERSION:2.0
PRODID:-//ChamberMaster//Event Calendar 2.0//EN
METHOD:PUBLISH
X-PUBLISHED-TTL:P3D
REFRESH-INTERVAL:P3D
CALSCALE:GREGORIAN
BEGIN:VEVENT
DTSTART:20140927T210000Z
DTEND:20140927T220000Z
X-MICROSOFT-CDO-ALLDAYEVENT:FALSE
SUMMARY:Exhibition Opening Reception - 09/27/2014
DESCRIPTION:Join us for the opening of our two Fall exhibitionsJoin the Museum for the opening reception of Picturing America: Masterworks from the Westmoreland Museum of American Art  and Anne Diggory: Hybrid Visions.
X-ALT-DESC;FMTTYPE=text/html:<p>Join us for the opening of our two Fall exhibitions</p><p>Join the Museum for the opening reception of<i>&nbsp\;Picturing America: Masterworks from the Westmoreland Museum of American Art &nbsp\;</i>and&nbsp\;<i>Anne Diggory: Hybrid Visions.</i></p>
LOCATION:The Hyde Collection Art Museum
UID:e.2254.3521
SEQUENCE:3
DTSTAMP:20260424T110809Z
URL:https://chamber.saratoga.org/events/details/exhibition-opening-reception-09-27-2014-09-27-2014-3521
END:VEVENT

END:VCALENDAR
