BEGIN:VCALENDAR
VERSION:2.0
PRODID:-//ChamberMaster//Event Calendar 2.0//EN
METHOD:PUBLISH
X-PUBLISHED-TTL:P3D
REFRESH-INTERVAL:P3D
CALSCALE:GREGORIAN
BEGIN:VEVENT
DTSTART:20150414T230000Z
DTEND:20150415T010000Z
X-MICROSOFT-CDO-ALLDAYEVENT:FALSE
SUMMARY:Exhibition Opening: Mapping A City: Saratoga Springs as Seen Through 250 Years o
DESCRIPTION:In 2015 Saratoga Springs is celebrating its Centennial year as a city. This exhibit examines its growth from colonial times through the 20th century using maps. Over 100 original\, reproduction and electronic maps\, some never before seen\, are displayed along with the stories that accompany them\, to show how a small settlement became a village and transformed into a city. The exhibit is produced\, in partnership\, between The History Museum\, Skidmore College\, The Tang Museum\, The Saratoga Room of the Saratoga Springs Public Library\, The Saratoga Springs City Historian and Saratoga County Historian. Made Possible by the Alfred Z. Solomon Charitable Trust and JIMAPCO.
X-ALT-DESC;FMTTYPE=text/html:In 2015 Saratoga Springs is celebrating its Centennial year as a city. This exhibit examines its growth from colonial times through the 20th century using maps. Over 100 original\, reproduction and electronic maps\, some never before seen\, are displayed along with the stories that accompany them\, to show how a small settlement became a village and transformed into a city. The exhibit is produced\, in partnership\, between The History Museum\, Skidmore College\, The Tang Museum\, The Saratoga Room of the Saratoga Springs Public Library\, The Saratoga Springs City Historian and Saratoga County Historian. Made Possible by the Alfred Z. Solomon Charitable Trust and JIMAPCO.
LOCATION:The Saratoga Springs History Museum
UID:e.2254.7734
SEQUENCE:3
DTSTAMP:20260423T200259Z
URL:https://chamber.saratoga.org/events/details/exhibition-opening-mapping-a-city-saratoga-springs-as-seen-through-250-years-o-04-14-2015-7734
END:VEVENT

END:VCALENDAR
