BEGIN:VCALENDAR
VERSION:2.0
PRODID:-//ChamberMaster//Event Calendar 2.0//EN
METHOD:PUBLISH
X-PUBLISHED-TTL:P3D
REFRESH-INTERVAL:P3D
CALSCALE:GREGORIAN
BEGIN:VEVENT
DTSTART:20140614T120000Z
DTEND:20140914T190000Z
X-MICROSOFT-CDO-ALLDAYEVENT:FALSE
SUMMARY:Exhibition: Larry Kagan: Lying Shadows - 06/14/2014
DESCRIPTION:This exhibition features twenty wall-mounted steel sculptures\, illustrating the development of a conceptual idea\, by the contemporary artist Larry Kagan.An illuminating look at a key figure in contemporary art This exhibition features twenty wall-mounted steel sculptures\, illustrating the development of a conceptual idea\, by the contemporary artist Larry Kagan. An exhibiting artist whose work has been collected and shown by museums and galleries worldwide\, Kagan is also a faculty member of the art department of Rensselaer Polytechnic Institute in Troy\, New York.   For the past twenty years\, Kagan has been engaged with the process of creating a hybrid form of sculpture that combines the solid component of a steel wire sculpture and the specific shadow it casts on the wall in a way that challenges expectations.  The form of the shadow suggests the presence of a material object that should be casting it\, but in fact does not exist.  The objects in Kagan’s repertoire of shadow images include a chair\, book\, bald eagle\, stiletto\, and a portrait of George Washington. The perceptual dualism of the three-dimensional abstract object casting an entirely figurative but dissimilar shadow when illuminated is at the heart of Kagan’s work. By disturbing the relationship between objects and shadows in this exhibition\, the artist demonstrates how shadows can be transformed from a secondary supporting role in an artwork to the main creative attraction.   Larry Kagan: Lying Shadows is organized by The Hyde Collection. The exhibition will be accompanied by a fully-illustrated catalogue with an essay on the artist’s work by Dr. Roberto Casati\, author of The Shadow Club published by Alfred A. Knopf\, New York (2003).
X-ALT-DESC;FMTTYPE=text/html:<p>This exhibition features twenty wall-mounted steel sculptures\, illustrating the development of a conceptual idea\, by the contemporary artist Larry Kagan.</p><p align="center" style="text-align: center\; line-height: 150%\;"><span style="font-size: 12pt\; line-height: 150%\; font-family: Arial\, sans-serif\;">An illuminating look at a key figure in contemporary art</span></p> <p style="line-height: 150%\;"><span style="font-size: 10pt\; line-height: 150%\; font-family: Arial\, sans-serif\;">This exhibition features twenty wall-mounted steel sculptures\, illustrating the development of a conceptual idea\, by the contemporary artist Larry Kagan. An exhibiting artist whose work has been collected and shown by museums and galleries worldwide\, Kagan is also a faculty member of the art department of Rensselaer Polytechnic Institute in Troy\, New York.</span></p> <p style="line-height: 150%\;"> </p> <p style="line-height: 150%\;"><span style="font-size: 10pt\; line-height: 150%\; font-family: Arial\, sans-serif\;">For the past twenty years\, Kagan has been engaged with the process of creating a hybrid form of sculpture that combines the solid component of a steel wire sculpture and the specific shadow it casts on the wall in a way that challenges expectations.<span style="color: red\;">&nbsp\; </span>The form of the shadow suggests the presence of a material object that should be casting it\, but in fact does not exist.&nbsp\; The objects in Kagan’s repertoire of shadow images include a chair\, book\, bald eagle\, stiletto\, and a portrait of George Washington. The perceptual dualism of the three-dimensional abstract object casting an entirely figurative but dissimilar shadow when illuminated is at the heart of Kagan’s work. By disturbing the relationship between objects and shadows in this exhibition\, the artist demonstrates how shadows can be transformed from a secondary supporting role in an artwork to the main creative attraction.</span></p> <p style="line-height: 150%\;"><em> </em></p> <p style="line-height: 150%\;"><em><span style="font-size: 10pt\; line-height: 150%\; font-family: Arial\, sans-serif\;">Larry Kagan: Lying Shadows</span></em><span style="font-size: 10pt\; line-height: 150%\; font-family: Arial\, sans-serif\;"> is organized by The Hyde Collection. The exhibition will be accompanied by a fully-illustrated catalogue with an essay on the artist’s work by Dr. Roberto Casati\, author of <em>The Shadow Club</em> published by Alfred A. Knopf\, New York (2003).</span></p>
LOCATION:The Hyde Collection Art Museum
UID:e.2254.3512
SEQUENCE:3
DTSTAMP:20260424T110808Z
URL:https://chamber.saratoga.org/events/details/exhibition-larry-kagan-lying-shadows-06-14-2014-06-14-2014-3512
END:VEVENT

END:VCALENDAR
