BEGIN:VCALENDAR
VERSION:2.0
PRODID:-//ChamberMaster//Event Calendar 2.0//EN
METHOD:PUBLISH
X-PUBLISHED-TTL:P3D
REFRESH-INTERVAL:P3D
CALSCALE:GREGORIAN
BEGIN:VEVENT
DTSTART:20140614T120000Z
DTEND:20140914T190000Z
X-MICROSOFT-CDO-ALLDAYEVENT:FALSE
SUMMARY:Exhibition: Emerging from the Shadows: Edward Hopper and his Contemporaries - 06/14/2014
DESCRIPTION:Works by Hopper and his contemporariesEdward Hopper (1882-1967) is considered the foremost realist of the twentieth-century celebrated for his scenes of New York City\, New England landscapes\, and interiors. Through his use of light and strongly cast shadows\, the artist instilled his subjects with a sense of drama creating an aura of expectation and impending change. Shadows are a recurrent motif in Hopper's work and part of its power to enthrall viewers\, emphasizing the sense of alienation\, anonymity\, and isolation of the human condition. While we are only peripherally conscious of shadows in nature\, this exhibition will demonstrate how they assume a narrative and metaphoric dimension in the work of Hopper and his contemporaries\, including George Bellows\, Armin Landeck\, Martin Lewis\, Louis Lozowick\, Isabel Bishop\, Howard Cook\, and Stow Wengenroth.   Emerging from the Shadows will present three watercolors and two etchings by Hopper\, including his iconic print Night Shadows\, and twenty additional works by ten of his fellow artists\, primarily etchings and lithographs on loan from museums\, private collections\, and selected from The Hyde’s permanent collection. Curated by Erin Coe\, Chief Curator\, The Hyde Collection.
X-ALT-DESC;FMTTYPE=text/html:<p>Works by Hopper and his contemporaries</p><p><span style="font-family: 'Arial Unicode MS'\, sans-serif\;">Edward Hopper (1882-1967) is considered the foremost realist of the twentieth-century celebrated for his scenes of New York City\, New England landscapes\, and interiors. Through his use of light and strongly cast shadows\, the artist instilled his subjects with a sense of drama creating an aura of expectation and impending change. Shadows are a recurrent motif in Hopper's work and part of its power to enthrall viewers\, emphasizing the sense of alienation\, anonymity\, and isolation of the human condition. While we are only peripherally conscious of shadows in nature\, this exhibition will demonstrate how they assume a narrative and metaphoric dimension in the work of Hopper and his contemporaries\, including George Bellows\, Armin Landeck\, Martin Lewis\, Louis Lozowick\, Isabel Bishop\, Howard Cook\, and Stow Wengenroth.</span></p> <p> </p> <p><em><span style="font-family: 'Arial Unicode MS'\, sans-serif\;">Emerging from the Shadows</span></em><span style="font-family: 'Arial Unicode MS'\, sans-serif\;"> will present three watercolors and two etchings by Hopper\, including his iconic print <em>Night Shadows</em>\, and twenty additional works by ten of his fellow artists\, primarily etchings and lithographs on loan from museums\, private collections\, and selected from The Hyde’s permanent collection. Curated by Erin Coe\, Chief Curator\, The Hyde Collection.</span></p>
LOCATION:The Hyde Collection Art Museum
UID:e.2254.3514
SEQUENCE:3
DTSTAMP:20260424T111039Z
URL:https://chamber.saratoga.org/events/details/exhibition-emerging-from-the-shadows-edward-hopper-and-his-contemporaries-06-14-2014-06-14-2014-3514
END:VEVENT

END:VCALENDAR
